BEGIN:VCALENDAR
VERSION:2.0
METHOD:PUBLISH
BEGIN:VEVENT
DTSTART:20260729T160000Z
DTEND:20260729T200000Z
LOCATION:Various Gallery Locations
UID:20260419T163828Z@mysite.com
DTSTAMP:20260419T163828Z
SUMMARY:Summer Self Guided Field Trip
DESCRIPTION:For details, visit https://atms.alberta.ca/ram/Selection.aspx?sch=195616
PRIORITY:5
CLASS:PUBLIC
END:VEVENT
END:VCALENDAR